BEGIN:VCALENDAR
VERSION:2.0
PRODID:-//Amerikansk fotboll - ECPv6.15.13.1//NONSGML v1.0//EN
CALSCALE:GREGORIAN
METHOD:PUBLISH
X-WR-CALNAME:Amerikansk fotboll
X-ORIGINAL-URL:https://stage.amerikanskfotboll.swe3.se
X-WR-CALDESC:Händelser för Amerikansk fotboll
REFRESH-INTERVAL;VALUE=DURATION:PT1H
X-Robots-Tag:noindex
X-PUBLISHED-TTL:PT1H
BEGIN:VTIMEZONE
TZID:UTC
BEGIN:STANDARD
TZOFFSETFROM:+0000
TZOFFSETTO:+0000
TZNAME:UTC
DTSTART:20200101T000000
END:STANDARD
END:VTIMEZONE
BEGIN:VEVENT
DTSTART;TZID=UTC:20210617T080000
DTEND;TZID=UTC:20210617T170000
DTSTAMP:20260421T203428
CREATED:20210616T121325Z
LAST-MODIFIED:20210616T122600Z
UID:10000002-1623916800-1623949200@stage.amerikanskfotboll.swe3.se
SUMMARY:Testevent flera sidor
DESCRIPTION:description
URL:https://stage.amerikanskfotboll.swe3.se/event/testevent-flera-sidor/
LOCATION:agoodid
ATTACH;FMTTYPE=image/jpeg:https://stage.amerikanskfotboll.swe3.se/wp-content/uploads/sites/4/2021/06/jakob-rosen-dn-0q8pV3fk-unsplash-scaled.jpg
END:VEVENT
END:VCALENDAR